BEGIN:VCALENDAR
VERSION:2.0
PRODID:-//ChamberMaster//Event Calendar 2.0//EN
METHOD:PUBLISH
X-PUBLISHED-TTL:P3D
REFRESH-INTERVAL:P3D
CALSCALE:GREGORIAN
BEGIN:VEVENT
DTSTART:20111105T160000Z
DTEND:20111105T200000Z
X-MICROSOFT-CDO-ALLDAYEVENT:FALSE
SUMMARY:A Walk In The Past
DESCRIPTION:Mohican Outdoor School will host their annual  Walk In the Past November the 5th. 2011 (12:00-4:00 PM)\nCost is $5.00 per family\nStep back in time and experience life in Ohio during the early 1800's. There will be hands on learning stations for the family: Tomahawk Throwing\, pioneer cooking\, nature dyes\, goats\, rabbits\, and more.  12:00 PM will be a musket demonstration\, at  1:00 and 3:00 PM Living History skits\, 2:00 PM will be storytelling and hammer dulcimer music. Cost is $5.00 per family. There will be Cornbread\, beans\, apple butter and apple cider for an extra cost\nSee web site:   http://mohicanoutdoorschool.org/
X-ALT-DESC;FMTTYPE=text/html:\nMohican Outdoor School will host their annual  Walk In the Past November the 5th. 2011 (12:00-4:00 PM)\nCost is $5.00 per family\nStep back in time and experience life in Ohio during the early 1800's. There will be hands on learning stations for the family: Tomahawk Throwing\, pioneer cooking\, nature dyes\, goats\, rabbits\, and more.  12:00 PM will be a musket demonstration\, at  1:00 and 3:00 PM Living History skits\, 2:00 PM will be storytelling and hammer dulcimer music. Cost is $5.00 per family. There will be Cornbread\, beans\, apple butter and apple cider for an extra cost\nSee web site:   http://mohicanoutdoorschool.org/  \n
LOCATION:Mohican Outdoor School 5370 Bunkerhill Rd. N. Butler\, Ohio 44822 is located between Rt. 95 and 97
UID:e.2256.617
SEQUENCE:3
DTSTAMP:20260424T111038Z
URL:https://portal.richlandareachamber.com/events/details/a-walk-in-the-past-11-05-2011-617
END:VEVENT

END:VCALENDAR
