BEGIN:VCALENDAR
VERSION:2.0
PRODID:-//ChamberMaster//Event Calendar 2.0//EN
METHOD:PUBLISH
X-PUBLISHED-TTL:P3D
REFRESH-INTERVAL:P3D
CALSCALE:GREGORIAN
BEGIN:VEVENT
DTSTART:20110618T213000Z
DTEND:20110618T233000Z
X-MICROSOFT-CDO-ALLDAYEVENT:FALSE
SUMMARY:50 year celebration dinner
DESCRIPTION:Mohican School in the Out-of-Doors is proud to celebrate 50 years of connecting kids to their natural surroundings. Saturday June 18th. there will be dining & entertainment. To make a reservation contact: info@mohicanoutdoorschool.org or call 419-938-6671
X-ALT-DESC;FMTTYPE=text/html:Mohican School in the Out-of-Doors is proud to celebrate 50 years of connecting kids to their natural surroundings. Saturday June 18th. there will be dining & entertainment. To make a reservation contact: info@mohicanoutdoorschool.org or call 419-938-6671
LOCATION:Event will take place in the Dining Room of the Environmental Learning Center.
UID:e.2256.588
SEQUENCE:3
DTSTAMP:20260424T195200Z
URL:https://portal.richlandareachamber.com/events/details/50-year-celebration-dinner-06-18-2011-588
END:VEVENT

END:VCALENDAR
