BEGIN:VCALENDAR
VERSION:2.0
PRODID:-//ChamberMaster//Event Calendar 2.0//EN
METHOD:PUBLISH
X-PUBLISHED-TTL:P3D
REFRESH-INTERVAL:P3D
CALSCALE:GREGORIAN
BEGIN:VEVENT
DTSTART:20091125T060000Z
DTEND:20091125T060000Z
X-MICROSOFT-CDO-ALLDAYEVENT:FALSE
SUMMARY:50% OFF Clearance Sale!
DESCRIPTION:50% OFF all in-stock pet life jackets\, water toys\, & cooling bandanas at www.petparkway.com.   Use coupon code "summer" at checkout.
X-ALT-DESC;FMTTYPE=text/html:50% OFF all in-stock pet life jackets\, water toys\, & cooling bandanas at www.petparkway.com.   Use coupon code "summer" at checkout. \n 
LOCATION:website only.
UID:e.2256.164
SEQUENCE:3
DTSTAMP:20260425T220418Z
URL:https://portal.richlandareachamber.com/events/details/50-off-clearance-sale-11-25-2009-164
END:VEVENT

END:VCALENDAR
