BEGIN:VCALENDAR
VERSION:2.0
PRODID:-//ChamberMaster//Event Calendar 2.0//EN
METHOD:PUBLISH
X-PUBLISHED-TTL:P3D
REFRESH-INTERVAL:P3D
CALSCALE:GREGORIAN
BEGIN:VEVENT
DTSTART:20120429T150000Z
DTEND:20120429T210000Z
X-MICROSOFT-CDO-ALLDAYEVENT:FALSE
SUMMARY:3rd Annual RACE CAR SHOW benefiting St Jude
DESCRIPTION:NOT a typical car show\, these are actual RACE CARS! Bring the family and feel the ground SHAKE when the drivers start their engines!!! Door prizes\, 50/50\, raffle drawings\, concession stand and a tire change contest! Come meet your favorite driver!!! ALL PROCEEDS FROM THIS EVENT WILL GO TO ST JUDE CHILDREN'S RESEARCH HOSPITAL.\n\nFor more info please visit our facebook page: https://www.facebook.com/#!/pages/Race-Car-Show/102963183131952
X-ALT-DESC;FMTTYPE=text/html:NOT a typical car show\, these are actual RACE CARS! Bring the family and feel the ground SHAKE when the drivers start their engines!!! Door prizes\, 50/50\, raffle drawings\, concession stand and a tire change contest! Come meet your favorite driver!!! ALL PROCEEDS FROM THIS EVENT WILL GO TO ST JUDE CHILDREN'S RESEARCH HOSPITAL.\n\nFor more info please visit our facebook page: https://www.facebook.com/#!/pages/Race-Car-Show/102963183131952
LOCATION:Firestone 1282 Park Ave West Mansfield OH 44906
UID:e.2256.662
SEQUENCE:3
DTSTAMP:20260422T162755Z
URL:https://portal.richlandareachamber.com/events/details/3rd-annual-race-car-show-benefiting-st-jude-04-29-2012-662
END:VEVENT

END:VCALENDAR
