BEGIN:VCALENDAR
VERSION:2.0
PRODID:-//ChamberMaster//Event Calendar 2.0//EN
METHOD:PUBLISH
X-PUBLISHED-TTL:P3D
REFRESH-INTERVAL:P3D
CALSCALE:GREGORIAN
BEGIN:VEVENT
DTSTART;VALUE=DATE:20101204
DTEND;VALUE=DATE:20101205
TRANSP:TRANSPARENT
X-MICROSOFT-CDO-ALLDAYEVENT:TRUE
SUMMARY:34th Annual Ontario Community Craft Show at the Richland County Fairgrounds
DESCRIPTION:HUGE selection of Crafts :  Floral Arrangements\, Jewelry\, Wreaths\, Ceramics\, Baked Goods\, Wood Items\, Fabric Crafts\, Santa's\, Snowmen\, Quilts\, Soaps\, Christmas Crafts and More!   120 Crafters\n\n    Food will be served by the Fairgrounds Auxiliary until 2:30 p.m.  Featuring Soups\, Sandwiches & Pies.\n\n    DONATIONS at the door $1.00 or toys (new or gently used) for TOY TIME\n\n\n\nFor more information\, please call 419-529-2588\n\n750 Home Rd \, Mansfield\, OH 4490.
X-ALT-DESC;FMTTYPE=text/html:<p>\n    HUGE selection of Crafts :&nbsp\; Floral Arrangements\, Jewelry\, Wreaths\, Ceramics\, Baked Goods\, Wood Items\, Fabric Crafts\, Santa's\, Snowmen\, Quilts\, Soaps\, Christmas Crafts and More! &nbsp\; 120 Crafters<br />\n    Food will be served by the Fairgrounds Auxiliary until 2:30 p.m.&nbsp\; Featuring Soups\, Sandwiches &amp\; Pies.<br />\n    DONATIONS at the door $1.00 or toys (new or gently used) for TOY TIME\n</p>\n<p>\n</p>\nFor more information\, please call 419-529-2588<br />\n<span class="event_location">750 Home Rd \, Mansfield\, OH 4490.</span> \n<!--hr size="1px" noshade-->\n<br />
LOCATION:
UID:e.2256.196
SEQUENCE:3
DTSTAMP:20260425T033913Z
URL:https://portal.richlandareachamber.com/events/details/34th-annual-ontario-community-craft-show-at-the-richland-county-fairgrounds-12-04-2010-196
END:VEVENT

END:VCALENDAR
