BEGIN:VCALENDAR
VERSION:2.0
PRODID:-//ChamberMaster//Event Calendar 2.0//EN
METHOD:PUBLISH
X-PUBLISHED-TTL:P3D
REFRESH-INTERVAL:P3D
CALSCALE:GREGORIAN
BEGIN:VEVENT
DTSTART:20100405T130000Z
DTEND:20100407T200000Z
X-MICROSOFT-CDO-ALLDAYEVENT:FALSE
SUMMARY:3-Day Portrait Workshop with Sharon Weaver
DESCRIPTION:Choose your media -  Oils\, Acrylics or Pastels!\nSharon Weaver\, an award winning artist\, is a \nmember of the Portrait Artists of Mid-Ohio and \nthe Ohio Plein Aire Society.  Learn her techniques \nto create beautiful realistic portraits.  Students \nreceive group & individual instruction.  Bring your \nown reference photos & supplies.  Snacks are included.  \nApril 5 - 7\, 2010. 9am - 4pm daily. Cost:  $180
X-ALT-DESC;FMTTYPE=text/html:Choose your media -  Oils\, Acrylics or Pastels!\nSharon Weaver\, an award winning artist\, is a \nmember of the Portrait Artists of Mid-Ohio and \nthe Ohio Plein Aire Society.  Learn her techniques \nto create beautiful realistic portraits.  Students \nreceive group & individual instruction.  Bring your \nown reference photos & supplies.  Snacks are included.  \nApril 5 - 7\, 2010. 9am - 4pm daily. Cost:  $180\n
LOCATION:Henne's Drafting & Art Supply\, Inc.\, 110 W. Third St. Mansfield\, OH 44902. Downtown Mansfield\, on Third St. behind the Holiday Inn.
UID:e.2256.286
SEQUENCE:3
DTSTAMP:20260425T164746Z
URL:https://portal.richlandareachamber.com/events/details/3-day-portrait-workshop-with-sharon-weaver-04-05-2010-286
END:VEVENT

END:VCALENDAR
