BEGIN:VCALENDAR
VERSION:2.0
PRODID:-//ChamberMaster//Event Calendar 2.0//EN
METHOD:PUBLISH
X-PUBLISHED-TTL:P3D
REFRESH-INTERVAL:P3D
CALSCALE:GREGORIAN
BEGIN:VEVENT
DTSTART:20120316T190000Z
DTEND:20120316T190000Z
X-MICROSOFT-CDO-ALLDAYEVENT:FALSE
SUMMARY:2012 North Central Home and Garden Show
DESCRIPTION:The Building Industry Association (BIA) proudly presents the 2012 North Central Ohio Home and Garden Show.  The BIA is excited and eager to continue this new tradition within the community.  The BIA humbly announces to make a long term commitment to host this new show at the Mansfield Reformatory.  This historical landmark will open new doors both for vendors and visitors alike.  Tours of the prison will be available in conjunction with the Home Show.\nThere will be many different opportunities for businesses to display their goods and services at this Grand Event.  In addition to displaying in the   historical prison halls\, there will be huge heated tents for outdoor equipment and landscaping. Vendors interested in joining our show need to go to the vendor page on our website www.ncohomeshow.com and fill out the application and fax to 419-774-7996 or call Natilie at the same number. History's trend has been to break out of jail\, but this spring the BIA challenges you to try something new.  Make your getaway to the historic Ohio state reformatory for the 2012 North Central Ohio Home and Garden show.  Plan your escape and come see the      opportunities and wonders that can only be found behind bars.  We hereby sentence you to serve your time March 16—18.
X-ALT-DESC;FMTTYPE=text/html:The Building Industry Association (BIA) proudly presents the 2012 North Central Ohio Home and Garden Show.  The BIA is excited and eager to continue this new tradition within the community.  The BIA humbly announces to make a long term commitment to host this new show at the Mansfield Reformatory.  This historical landmark will open new doors both for vendors and visitors alike.  Tours of the prison will be available in conjunction with the Home Show.\nThere will be many different opportunities for businesses to display their goods and services at this Grand Event.  In addition to displaying in the   historical prison halls\, there will be huge heated tents for outdoor equipment and landscaping. Vendors interested in joining our show need to go to the vendor page on our website www.ncohomeshow.com and fill out the application and fax to 419-774-7996 or call Natilie at the same number. History's trend has been to break out of jail\, but this spring the BIA challenges you to try something new.  Make your getaway to the historic Ohio state reformatory for the 2012 North Central Ohio Home and Garden show.  Plan your escape and come see the      opportunities and wonders that can only be found behind bars.  We hereby sentence you to serve your time March 16—18.  \n
LOCATION:100 Reformatory Road\, Mansfield\, Ohio 44905 Off Route 30\, exit ST RT 545
UID:e.2256.650
SEQUENCE:3
DTSTAMP:20260422T180402Z
URL:https://portal.richlandareachamber.com/events/details/2012-north-central-home-and-garden-show-03-16-2012-650
END:VEVENT

END:VCALENDAR
