BEGIN:VCALENDAR
VERSION:2.0
PRODID:-//ChamberMaster//Event Calendar 2.0//EN
METHOD:PUBLISH
X-PUBLISHED-TTL:P3D
REFRESH-INTERVAL:P3D
CALSCALE:GREGORIAN
BEGIN:VEVENT
DTSTART:20120311T150000Z
DTEND:20120311T200000Z
X-MICROSOFT-CDO-ALLDAYEVENT:FALSE
SUMMARY:2012 ''MID-OHIO HOME SHOW''
DESCRIPTION:Mid-Ohio Home Show \nMarch 9-10-11\, 2012 \nSHOW HOURS: \nFri. 3pm – 8pm \nSat. 10am – 7pm \nSun. 11am – 4pm \n\nWeb site: midohiohomeshow.com \n\nThe Home Show will be Friday evening\, Saturday and Sunday. \n\nThe 2012 ''MID-OHIO HOME SHOW'' presented by The Noon Optimist Club \n\nSponsored by: Schmidt Security Pro and Shearer Equipment Co \n\nHeld at Richland County Fairgrounds \n\nAny inquiries for exhibiting in the Show call: Tom Risacher 419-529-6097-ext: 239 Ron Denman 419-610-4131 E-mail: midohiohomeshow@gmail.com \n\nHome show will be held in: Fairhaven Hall Arts & Crafts Building Entrance to Fairgrounds and show for spectators is $3.00 per car per day. Exhibitors need a pass which will be sent before show or given at show set up.
X-ALT-DESC;FMTTYPE=text/html:Mid-Ohio Home Show <BR>March 9-10-11\, 2012 <BR>SHOW HOURS: <BR>Fri. 3pm – 8pm <BR>Sat. 10am – 7pm <BR>Sun. 11am – 4pm <BR><BR>Web site: midohiohomeshow.com <BR><BR>The Home Show will be Friday evening\, Saturday and Sunday. <BR><BR>The 2012 ''MID-OHIO HOME SHOW'' presented by The Noon Optimist Club <BR><BR>Sponsored by: Schmidt Security Pro and Shearer Equipment Co <BR><BR>Held at Richland County Fairgrounds <BR><BR>Any inquiries for exhibiting in the Show call: Tom Risacher 419-529-6097-ext: 239 Ron Denman 419-610-4131 E-mail: <A href="mailto:midohiohomeshow@gmail.com">midohiohomeshow@gmail.com</A> <BR><BR>Home show will be held in: Fairhaven Hall Arts &amp\; Crafts Building Entrance to Fairgrounds and show for spectators is $3.00 per car per day. Exhibitors need a pass which will be sent before show or given at show set up.
LOCATION:
UID:e.2256.641
SEQUENCE:3
DTSTAMP:20260422T180044Z
URL:https://portal.richlandareachamber.com/events/details/2012-mid-ohio-home-show-03-11-2012-641
END:VEVENT

END:VCALENDAR
