BEGIN:VCALENDAR
VERSION:2.0
PRODID:-//ChamberMaster//Event Calendar 2.0//EN
METHOD:PUBLISH
X-PUBLISHED-TTL:P3D
REFRESH-INTERVAL:P3D
CALSCALE:GREGORIAN
BEGIN:VEVENT
DTSTART:20100617T110000Z
DTEND:20100617T140000Z
X-MICROSOFT-CDO-ALLDAYEVENT:FALSE
SUMMARY:2010 Real Heroes of The American Red Cross
DESCRIPTION:Please join the Richland County Chapter of the American Red Cross to recognize local heroes\, unsung ordinary citizens who have performed extraordinary acts of kindness and humanitarianism.
X-ALT-DESC;FMTTYPE=text/html:Please join the Richland County Chapter of the American Red Cross to recognize local heroes\, unsung ordinary citizens who have performed extraordinary acts of kindness and humanitarianism. 
LOCATION:Mid-Ohio Conference Center 890 West Fourth Street Mansfield\, Ohio 44906
UID:e.2256.311
SEQUENCE:3
DTSTAMP:20260425T121924Z
URL:https://portal.richlandareachamber.com/events/details/2010-real-heroes-of-the-american-red-cross-06-17-2010-311
END:VEVENT

END:VCALENDAR
