BEGIN:VCALENDAR
VERSION:2.0
PRODID:-//ChamberMaster//Event Calendar 2.0//EN
METHOD:PUBLISH
X-PUBLISHED-TTL:P3D
REFRESH-INTERVAL:P3D
CALSCALE:GREGORIAN
BEGIN:VEVENT
DTSTART:20100424T130000Z
DTEND:20100425T200000Z
X-MICROSOFT-CDO-ALLDAYEVENT:FALSE
SUMMARY:2-Day Palette Knife Painting Workshop with Becky Manges
DESCRIPTION:Learn to use painting knives to add depth and texture to your paintings. Subject:  To be announced.  Students also have the option to paint their own subjects.  Lunch on Saturday and snacks provided.  April 24 & 25\, 2010\nSaturday\, 9am - 4pm\, Sunday Noon - 4pm.	Cost:  $90.00 + Supplies.
X-ALT-DESC;FMTTYPE=text/html:Learn to use painting knives to add depth and texture to your paintings. Subject:  To be announced.  Students also have the option to paint their own subjects.  Lunch on Saturday and snacks provided.  April 24 & 25\, 2010\nSaturday\, 9am - 4pm\, Sunday Noon - 4pm.	Cost:  $90.00 + Supplies.  \n
LOCATION:Henne's Drafting & Art Supply\, Inc.\, 110 W. Third St. Mansfield\, OH 44902. Downtown Mansfield\, on Third St. behind the Holiday Inn.
UID:e.2256.289
SEQUENCE:3
DTSTAMP:20260425T153635Z
URL:https://portal.richlandareachamber.com/events/details/2-day-palette-knife-painting-workshop-with-becky-manges-04-24-2010-289
END:VEVENT

END:VCALENDAR
