BEGIN:VCALENDAR
VERSION:2.0
PRODID:-//ChamberMaster//Event Calendar 2.0//EN
METHOD:PUBLISH
X-PUBLISHED-TTL:P3D
REFRESH-INTERVAL:P3D
CALSCALE:GREGORIAN
BEGIN:VEVENT
DTSTART:20100227T140000Z
DTEND:20100228T210000Z
X-MICROSOFT-CDO-ALLDAYEVENT:FALSE
SUMMARY:1st Annual New & Used Car INDOOR Sale!
DESCRIPTION:All new vehicles can be purchased at Supplier Discount!  HUGE SAVINGS!!  All Used vehicles priced to move!!\n\nYou can save up to $8\,500 on New 2010 Ford F-150s\, $4\,500 on Rangers\, $3\,500 on Focus' and Fusions\, $5\,000 Edge and $3\,000 on Escapes
X-ALT-DESC;FMTTYPE=text/html:All new vehicles can be purchased at Supplier Discount!  HUGE SAVINGS!!  All Used vehicles priced to move!!\n\nYou can save up to $8\,500 on New 2010 Ford F-150s\, $4\,500 on Rangers\, $3\,500 on Focus' and Fusions\, $5\,000 Edge and $3\,000 on Escapes
LOCATION:Donley Ford of Shelby 249 Mansfield Ave. (St. Rt. 39) Shelby\, OH 44875 www.donleyfordofshelby.com
UID:e.2256.281
SEQUENCE:3
DTSTAMP:20260425T193125Z
URL:https://portal.richlandareachamber.com/events/details/1st-annual-new-used-car-indoor-sale-02-27-2010-281
END:VEVENT

END:VCALENDAR
