BEGIN:VCALENDAR
VERSION:2.0
PRODID:-//ChamberMaster//Event Calendar 2.0//EN
METHOD:PUBLISH
X-PUBLISHED-TTL:P3D
REFRESH-INTERVAL:P3D
CALSCALE:GREGORIAN
BEGIN:VEVENT
DTSTART:20120714T140000Z
DTEND:20120714T140000Z
X-MICROSOFT-CDO-ALLDAYEVENT:FALSE
SUMMARY:1st Annual HomeCare Matters Benefit Ride for Hospice
DESCRIPTION:Road Riders for Jesus presents the 1st Annual HomeCare Matters Benefit Ride for Hospice\n\nWhen: Saturday\, July 14th\nRain Date: Saturday\, July 28th\nWhere: HomeCare Matters\, 1220 N. Market St.\, Galion\nCost: $10 per bike\, $15 with rider - All bikes welcome!\nTime: Registration 10am to 11am\, 11am last bike out\, 2pm last bike back in to be registered for drawing\n\nAfter ride festivities begin at 2pm with Opening Ceremony!  Food\, Live Music\, Auction\, 50/50\, Kids Games\, Drawing at 4pm (Must be present to win.)\n\nTo make a donation go to: www.homecarematters.org\nor mail to: 1220 N. Market St.\, Galion\, OH 44833\n\nFor details contact Rodger with Road Riders for Jesus at 614-429-7459 or HomeCare Matters at 419-468-7985
X-ALT-DESC;FMTTYPE=text/html:Road Riders for Jesus presents the 1st Annual HomeCare Matters Benefit Ride for Hospice\n\nWhen: Saturday\, July 14th\nRain Date: Saturday\, July 28th\nWhere: HomeCare Matters\, 1220 N. Market St.\, Galion\nCost: $10 per bike\, $15 with rider - All bikes welcome!\nTime: Registration 10am to 11am\, 11am last bike out\, 2pm last bike back in to be registered for drawing\n\nAfter ride festivities begin at 2pm with Opening Ceremony!  Food\, Live Music\, Auction\, 50/50\, Kids Games\, Drawing at 4pm (Must be present to win.)\n\nTo make a donation go to: www.homecarematters.org\nor mail to: 1220 N. Market St.\, Galion\, OH 44833\n\nFor details contact Rodger with Road Riders for Jesus at 614-429-7459 or HomeCare Matters at 419-468-7985
LOCATION:One mile North of the Galion square.
UID:e.2256.668
SEQUENCE:3
DTSTAMP:20260422T102144Z
URL:https://portal.richlandareachamber.com/events/details/1st-annual-homecare-matters-benefit-ride-for-hospice-07-14-2012-668
END:VEVENT

END:VCALENDAR
