BEGIN:VCALENDAR
VERSION:2.0
PRODID:-//ChamberMaster//Event Calendar 2.0//EN
METHOD:PUBLISH
X-PUBLISHED-TTL:P3D
REFRESH-INTERVAL:P3D
CALSCALE:GREGORIAN
BEGIN:VEVENT
DTSTART:20121207T230000Z
DTEND:20121208T023000Z
X-MICROSOFT-CDO-ALLDAYEVENT:FALSE
SUMMARY:1st Annual Historic Church Tour
DESCRIPTION:Join us for a unique tour of the beautiful churches in downtown Mansfield\, all decorated for Christmas!  This free tour begins at the Carrousel for the annual lighting of the Christmas Tree and will stop at each of the six participating churches for a small program or event.
X-ALT-DESC;FMTTYPE=text/html:Join us for a unique tour of the beautiful churches in downtown Mansfield\, all decorated for Christmas!  This free tour begins at the Carrousel for the annual lighting of the Christmas Tree and will stop at each of the six participating churches for a small program or event.  
LOCATION:75 North Main Street Richland Carrousel Park Mansfield\, Ohio 44902
UID:e.2256.704
SEQUENCE:3
DTSTAMP:20260420T031621Z
URL:https://portal.richlandareachamber.com/events/details/1st-annual-historic-church-tour-12-07-2012-704
END:VEVENT

END:VCALENDAR
