BEGIN:VCALENDAR
VERSION:2.0
PRODID:-//ChamberMaster//Event Calendar 2.0//EN
METHOD:PUBLISH
X-PUBLISHED-TTL:P3D
REFRESH-INTERVAL:P3D
CALSCALE:GREGORIAN
BEGIN:VEVENT
DTSTART;VALUE=DATE:20110618
DTEND;VALUE=DATE:20110619
TRANSP:TRANSPARENT
X-MICROSOFT-CDO-ALLDAYEVENT:TRUE
SUMMARY:1959 Pink Thunderbird
DESCRIPTION:1959 Pink Thunderbird  Second Stage  June 10-11 & 17-18 \n\nMansfield Playhouse - 419-522-2883 - www.mansfieldplayhouse.com
X-ALT-DESC;FMTTYPE=text/html:1959 Pink Thunderbird  Second Stage  June 10-11 & 17-18 \n\nMansfield Playhouse - 419-522-2883 - www.mansfieldplayhouse.com\n
LOCATION:
UID:e.2256.454
SEQUENCE:3
DTSTAMP:20260424T195135Z
URL:https://portal.richlandareachamber.com/events/details/1959-pink-thunderbird-06-18-2011-454
END:VEVENT

END:VCALENDAR
