BEGIN:VCALENDAR
VERSION:2.0
PRODID:-//ChamberMaster//Event Calendar 2.0//EN
METHOD:PUBLISH
X-PUBLISHED-TTL:P3D
REFRESH-INTERVAL:P3D
CALSCALE:GREGORIAN
BEGIN:VEVENT
DTSTART:20241109T150000Z
DTEND:20241109T210000Z
X-MICROSOFT-CDO-ALLDAYEVENT:FALSE
SUMMARY:11th Annual Christmas Craft & Vendor Expo
DESCRIPTION:The 11th Annual Christmas Craft & Vendor Expo will be held on Saturday\, November 9\, 2024 at St. Clement Hall (Holy Family Parish)\, 216 East Wooster Street\, Navarre\, Ohio 44662 from 10:00am to 4:00pm during Navarre's Christmas in Bethlehem event. Admission is FREE! We will have food trucks\, kettle corn\, train rides\, shopping\, raffles\, & so much more! Proceeds to benefit the Fairless Food Cupboard! Come join us and shop with multiple exhibitors with a variety of different products. For more information contact Telisa @ 330-936-4850.
X-ALT-DESC;FMTTYPE=text/html:The 11th Annual Christmas Craft &amp\; Vendor Expo will be held on Saturday\, November 9\, 2024 at St. Clement Hall (Holy Family Parish)\, 216 East Wooster Street\, Navarre\, Ohio 44662 from 10:00am to 4:00pm during Navarre&rsquo\;s Christmas in Bethlehem event. Admission is FREE! We will have food trucks\, kettle corn\, train rides\, shopping\, raffles\, &amp\; so much more! Proceeds to benefit the Fairless Food Cupboard! Come join us and shop with multiple exhibitors with a variety of different products. For more information contact Telisa @ 330-936-4850.
LOCATION:St. Clement Hall - Holy Family Parish 216 East Wooster Street Navarre\, Ohio 44662
UID:e.2256.6170
SEQUENCE:3
DTSTAMP:20260422T141503Z
URL:https://portal.richlandareachamber.com/events/details/11th-annual-christmas-craft-vendor-expo-6170
END:VEVENT

END:VCALENDAR
