BEGIN:VCALENDAR
VERSION:2.0
PRODID:-//ChamberMaster//Event Calendar 2.0//EN
METHOD:PUBLISH
X-PUBLISHED-TTL:P3D
REFRESH-INTERVAL:P3D
CALSCALE:GREGORIAN
BEGIN:VEVENT
DTSTART:20100417T130000Z
DTEND:20100417T200000Z
X-MICROSOFT-CDO-ALLDAYEVENT:FALSE
SUMMARY:1-Day Floral Watercolor Workshop with Robert Moyer
DESCRIPTION:Paint your own spring flowers!  Learn watercolor painting techniques to paint a vibrant  bouquet of flowers with one of Ohio's premier watercolor artists! Lunch Provided.\n\nRobert is a member of the Ohio Watercolor Society\, having received awards in shows at Cleveland Art Director's Club\, C. S. C. A. \, Ohio Watercolor Society\,  Emerald Necklace and St. John's West Shore Hospital's Annual Festival of the Arts. He has exhibited in the Cleveland Art Museum May Show\, Lakewood Art League\, Wayne Center for the Arts\, North Olmsted Art League\, Bay Crafters watercolor shows\, and the Wooster Art and Jazz Fest.  Don't miss what promises to be a special event!  \nApril 17\, 2010.  Saturday 9am - 4pm. Cost:  $75.00 + Supplies
X-ALT-DESC;FMTTYPE=text/html:Paint your own spring flowers!  Learn watercolor painting techniques to paint a vibrant  bouquet of flowers with one of Ohio's premier watercolor artists! Lunch Provided.\n\nRobert is a member of the Ohio Watercolor Society\, having received awards in shows at Cleveland Art Director's Club\, C. S. C. A. \, Ohio Watercolor Society\,  Emerald Necklace and St. John's West Shore Hospital's Annual Festival of the Arts. He has exhibited in the Cleveland Art Museum May Show\, Lakewood Art League\, Wayne Center for the Arts\, North Olmsted Art League\, Bay Crafters watercolor shows\, and the Wooster Art and Jazz Fest.  Don't miss what promises to be a special event!  \nApril 17\, 2010.  Saturday 9am - 4pm. Cost:  $75.00 + Supplies
LOCATION:Henne's Drafting & Art Supply\, Inc.\, 110 W. Third St. Mansfield\, OH 44902. Downtown Mansfield\, on Third St. behind the Holiday Inn.
UID:e.2256.288
SEQUENCE:3
DTSTAMP:20260425T164804Z
URL:https://portal.richlandareachamber.com/events/details/1-day-floral-watercolor-workshop-with-robert-moyer-04-17-2010-288
END:VEVENT

END:VCALENDAR
